BEGIN:VCALENDAR
VERSION:2.0
PRODID:-//Badminton Differdange - ECPv4.6.7//NONSGML v1.0//EN
CALSCALE:GREGORIAN
METHOD:PUBLISH
X-WR-CALNAME:Badminton Differdange
X-ORIGINAL-URL:http://www.badminton-differdange.lu
X-WR-CALDESC:Events for Badminton Differdange
BEGIN:VEVENT
DTSTART;TZID=Europe/Amsterdam:20171201T203000
DTEND;TZID=Europe/Amsterdam:20171201T223000
DTSTAMP:20171220T040625
CREATED:20171121T233158Z
LAST-MODIFIED:20171121T233158Z
UID:4402-1512160200-1512167400@www.badminton-differdange.lu
SUMMARY:Differdange 2 - Arel 2
DESCRIPTION:
URL:http://www.badminton-differdange.lu/agenda/differdange-2-arel-2/
LOCATION:2 Place des Alliés\, Differdange\, L-4508\, Luxemburg
CATEGORIES:Seniors
END:VEVENT
BEGIN:VEVENT
DTSTART;TZID=Europe/Amsterdam:20171201T203000
DTEND;TZID=Europe/Amsterdam:20171201T223000
DTSTAMP:20171220T040625
CREATED:20171121T233453Z
LAST-MODIFIED:20171121T233453Z
UID:4408-1512160200-1512167400@www.badminton-differdange.lu
SUMMARY:Differdange 3 - Junglinster 3
DESCRIPTION:
URL:http://www.badminton-differdange.lu/agenda/differdange-3-junglinster-3/
LOCATION:2 Place des Alliés\, Differdange\, L-4508\, Luxemburg
CATEGORIES:Seniors
END:VEVENT
BEGIN:VEVENT
DTSTART;TZID=Europe/Amsterdam:20171202T143000
DTEND;TZID=Europe/Amsterdam:20171202T163000
DTSTAMP:20171220T040625
CREATED:20171121T233724Z
LAST-MODIFIED:20171121T233724Z
UID:4414-1512225000-1512232200@www.badminton-differdange.lu
SUMMARY:Izeg 2 - Differdange 4
DESCRIPTION:
URL:http://www.badminton-differdange.lu/agenda/izeg-2-differdange-4/
LOCATION:Hesperange\, Luxemburg
CATEGORIES:Seniors
END:VEVENT
BEGIN:VEVENT
DTSTART;TZID=Europe/Amsterdam:20171208T193000
DTEND;TZID=Europe/Amsterdam:20171208T213000
DTSTAMP:20171220T040625
CREATED:20171121T233541Z
LAST-MODIFIED:20171121T233541Z
UID:4410-1512761400-1512768600@www.badminton-differdange.lu
SUMMARY:Europeen 2 - Differdang 3
DESCRIPTION:
URL:http://www.badminton-differdange.lu/agenda/europeen-2-differdang-3/
CATEGORIES:Seniors
END:VEVENT
BEGIN:VEVENT
DTSTART;TZID=Europe/Amsterdam:20171208T193000
DTEND;TZID=Europe/Amsterdam:20171208T213000
DTSTAMP:20171220T040625
CREATED:20171121T233858Z
LAST-MODIFIED:20171121T233858Z
UID:4418-1512761400-1512768600@www.badminton-differdange.lu
SUMMARY:Kayl 5 - Differdange 4
DESCRIPTION:
URL:http://www.badminton-differdange.lu/agenda/kayl-5-differdange-4/
LOCATION:66\, rue des Martyres\, Rumelange\, 3739
CATEGORIES:Seniors
END:VEVENT
BEGIN:VEVENT
DTSTART;TZID=Europe/Amsterdam:20171209T180000
DTEND;TZID=Europe/Amsterdam:20171209T200000
DTSTAMP:20171220T040625
CREATED:20171121T233247Z
LAST-MODIFIED:20171121T233247Z
UID:4404-1512842400-1512849600@www.badminton-differdange.lu
SUMMARY:Betebuerg 2 - Differdange 2
DESCRIPTION:
URL:http://www.badminton-differdange.lu/agenda/betebuerg-2-differdange-2/
LOCATION:rue J.H. Polk\, Bettembourg\, Luxemburg
CATEGORIES:Seniors
END:VEVENT
BEGIN:VEVENT
DTSTART;TZID=Europe/Amsterdam:20171210T093000
DTEND;TZID=Europe/Amsterdam:20171210T113000
DTSTAMP:20171220T040625
CREATED:20171121T232920Z
LAST-MODIFIED:20171121T232920Z
UID:4397-1512898200-1512905400@www.badminton-differdange.lu
SUMMARY:Differdange-Kayl
DESCRIPTION:
URL:http://www.badminton-differdange.lu/agenda/differdange-kayl/
LOCATION:Luxemburg
CATEGORIES:Seniors
END:VEVENT
BEGIN:VEVENT
DTSTART;TZID=Europe/Amsterdam:20171210T163000
DTEND;TZID=Europe/Amsterdam:20171210T183000
DTSTAMP:20171220T040625
CREATED:20171121T233809Z
LAST-MODIFIED:20171121T233809Z
UID:4416-1512923400-1512930600@www.badminton-differdange.lu
SUMMARY:Differdange 4 - Schifflange 4
DESCRIPTION:
URL:http://www.badminton-differdange.lu/agenda/differdange-4-schifflange-4/
LOCATION:2 Place des Alliés\, Differdange\, L-4508\, Luxemburg
CATEGORIES:Seniors
END:VEVENT
BEGIN:VEVENT
DTSTART;TZID=Europe/Amsterdam:20171215T193000
DTEND;TZID=Europe/Amsterdam:20171215T213000
DTSTAMP:20171220T040625
CREATED:20171121T233959Z
LAST-MODIFIED:20171121T233959Z
UID:4420-1513366200-1513373400@www.badminton-differdange.lu
SUMMARY:Europeen 3 - Differdange 4
DESCRIPTION:
URL:http://www.badminton-differdange.lu/agenda/europeen-3-differdange-4/
CATEGORIES:Seniors
END:VEVENT
BEGIN:VEVENT
DTSTART;VALUE=DATE:20171216
DTEND;VALUE=DATE:20171218
DTSTAMP:20171220T040625
CREATED:20171005T235806Z
LAST-MODIFIED:20171006T000055Z
UID:4099-1513382400-1513555199@www.badminton-differdange.lu
SUMMARY:Masters 3 Kayl(Rumelange)
DESCRIPTION:
URL:http://www.badminton-differdange.lu/agenda/masters-3-kaylrumelange/
LOCATION:66\, rue des Martyres\, Rumelange\, 3739
CATEGORIES:MASTERS
END:VEVENT
BEGIN:VEVENT
DTSTART;TZID=Europe/Amsterdam:20171221T190000
DTEND;TZID=Europe/Amsterdam:20171221T210000
DTSTAMP:20171220T040625
CREATED:20171218T111039Z
LAST-MODIFIED:20171218T111039Z
UID:4479-1513882800-1513890000@www.badminton-differdange.lu
SUMMARY:Lasergame Howald
DESCRIPTION:
URL:http://www.badminton-differdange.lu/agenda/lasergame-howald/
END:VEVENT
BEGIN:VEVENT
DTSTART;TZID=Europe/Amsterdam:20171222T180000
DTEND;TZID=Europe/Amsterdam:20171222T230000
DTSTAMP:20171220T040625
CREATED:20171218T111130Z
LAST-MODIFIED:20171218T111130Z
UID:4481-1513965600-1513983600@www.badminton-differdange.lu
SUMMARY:Kreschtfeier
DESCRIPTION:
URL:http://www.badminton-differdange.lu/agenda/kreschtfeier/
END:VEVENT
END:VCALENDAR